BEGIN:VCALENDAR
PRODID:-//kirchenweb.ch gmbh//veranstaltungsausgabe v2.0//DE
VERSION:2.0
METHOD:PUBLISH
BEGIN:VEVENT
DTSTART:20261118T130000Z
DTEND:20261118T153000Z
LOCATION:Kirchgemeindehaus Bremgarten\, \,
TRANSP:OPAQUE
SEQUENCE:0
UID:18754-veranstaltung@ref-bremgarten-mutschellen.ch
DTSTAMP:20260422T154758Z
DESCRIPTION:Kontakt: Brigitta Sturzenegger\, Tel.  056 350 05 28\n
 \nWeitere Infos:
  https://www.ref-bremgarten-mutschellen.ch/veranstaltung/18754
SUMMARY:Treffpunkt ab 60
PRIORITY:5
X-MICROSOFT-CDO-IMPORTANCE:1
CLASS:PUBLIC
END:VEVENT
END:VCALENDAR
