BEGIN:VCALENDAR
PRODID:-//kirchenweb.ch gmbh//veranstaltungsausgabe v2.0//DE
VERSION:2.0
METHOD:PUBLISH
BEGIN:VEVENT
DTSTART:20260916T120000Z
DTEND:20260916T143000Z
LOCATION:Kirchgemeindehaus Bremgarten\, \,
TRANSP:OPAQUE
SEQUENCE:0
UID:18752-veranstaltung@ref-bremgarten-mutschellen.ch
DTSTAMP:20260422T154759Z
DESCRIPTION:Kontakt: Brigitta Sturzenegger\, Tel.  056 350 05 28\n
 \nWeitere Infos:
  https://www.ref-bremgarten-mutschellen.ch/veranstaltung/18752
SUMMARY:Treffpunkt ab 60
PRIORITY:5
X-MICROSOFT-CDO-IMPORTANCE:1
CLASS:PUBLIC
END:VEVENT
END:VCALENDAR
