BEGIN:VCALENDAR
PRODID:-//kirchenweb.ch gmbh//veranstaltungsausgabe v2.0//DE
VERSION:2.0
METHOD:PUBLISH
BEGIN:VEVENT
DTSTART:20260607T081500Z
DTEND:20260607T091500Z
LOCATION:Reformierte Kirche Ammerswil (AG)\, Hentschikerstrasse\, 5600
  Ammerswil
TRANSP:OPAQUE
SEQUENCE:0
UID:18745-veranstaltung@ref-bremgarten-mutschellen.ch
DTSTAMP:20260416T072010Z
DESCRIPTION:Pfarrerin Sylvia Michel war 1964  die erste Frau\, die alleine
  – ohne einen Pfarrer an ihrer Seite – ein  Pfarramt übernahm:
  dasjenige der Kirchgemeinde Ammerswil (AG).  \nDafür musste sogar die
  Kirchenordnung geändert werden. Zehn Jahre später\, 1974\, wurde sie
  – wiederum als erste Frau – in den Kirchenrat der Reformierten
  Landeskirche Aargau gewählt.  \nVon 1980 bis 1986 hatte sie das
  Kirchenratspräsidium inne und war damit die erste Frau in Europa\, die
  eine Leitungsfunktion in einer Kirche innehatte.\nSylvia Michel verstarb
  am 24. Juni 2025 im 90. Lebensjahr im Alters- und Pflegeheim Tabor\, Wald
  ZH. \nIhr zu Ehren wird am 7. Juni 2026 eine Gedenktafel an der Kirche
  Ammerswil angebracht und anlässlich eines Festgottesdiensts enthüllt.\n
 \nKontakt: Rita Famos\n\nWeitere Infos:
  https://www.ref-bremgarten-mutschellen.ch/veranstaltung/18745
SUMMARY:Gedenkgottesdienst für Pfarrerin Sylvia Michel
PRIORITY:5
X-MICROSOFT-CDO-IMPORTANCE:1
CLASS:PUBLIC
END:VEVENT
END:VCALENDAR
