BEGIN:VCALENDAR
PRODID:-//kirchenweb.ch gmbh//veranstaltungsausgabe v2.0//DE
VERSION:2.0
METHOD:PUBLISH
BEGIN:VEVENT
DTSTART:20260415T073000Z
DTEND:20260415T090000Z
LOCATION:JuPa\, neben der Ref. Kirche Widen\, neben der Ref. Kirche\, 8967
  Widen
TRANSP:OPAQUE
SEQUENCE:0
UID:18715-veranstaltung@ref-bremgarten-mutschellen.ch
DTSTAMP:20260408T133315Z
DESCRIPTION:Jeden Mittwoch von 09:30 – 11:00 Uhr\nNiveau A0-B1
 \nKinderbetreuung bei Bedarf\n\n\nKontakt: Manuel Keller\, Tel. 056 350 05
  23\n\nWeitere Infos:
  https://www.ref-bremgarten-mutschellen.ch/veranstaltung/18715
SUMMARY:Asyltreff DEUTSCH
PRIORITY:5
X-MICROSOFT-CDO-IMPORTANCE:1
CLASS:PUBLIC
END:VEVENT
END:VCALENDAR
