BEGIN:VCALENDAR
PRODID:-//kirchenweb.ch gmbh//veranstaltungsausgabe v2.0//DE
VERSION:2.0
METHOD:PUBLISH
BEGIN:VEVENT
DTSTART:20260824T070000Z
DTEND:20260824T160000Z
LOCATION:Reformierte Kirche Bremgarten\, Bärenmattstrasse 1\, 5620
  Bremgarten
TRANSP:OPAQUE
SEQUENCE:0
UID:18709-veranstaltung@ref-bremgarten-mutschellen.ch
DTSTAMP:20260407T065705Z
DESCRIPTION:Kontakt: Corinne Dobler\, Tel. 056 631 06 26\n\nWeitere Infos:
  https://www.ref-bremgarten-mutschellen.ch/veranstaltung/18709
SUMMARY:einrichten artwalk
PRIORITY:5
X-MICROSOFT-CDO-IMPORTANCE:1
CLASS:PUBLIC
END:VEVENT
END:VCALENDAR
