BEGIN:VCALENDAR
PRODID:-//kirchenweb.ch gmbh//veranstaltungsausgabe v2.0//DE
VERSION:2.0
METHOD:PUBLISH
BEGIN:VEVENT
DTSTART:20260519T170000Z
DTEND:20260519T180000Z
LOCATION:Kath. Kirche Rudolfstetten\, a. Bremgartenstr. 14\, 8964
  Rudolfstetten
TRANSP:OPAQUE
SEQUENCE:0
UID:18690-veranstaltung@ref-bremgarten-mutschellen.ch
DTSTAMP:20260330T164101Z
DESCRIPTION:Kontakt: Marie Eve Morf\, Tel: 056 633 05 62\n\nWeitere Infos:
  https://www.ref-bremgarten-mutschellen.ch/veranstaltung/18690
SUMMARY:Gebet für den Frieden
PRIORITY:5
X-MICROSOFT-CDO-IMPORTANCE:1
CLASS:PUBLIC
END:VEVENT
END:VCALENDAR
