BEGIN:VCALENDAR
PRODID:-//kirchenweb.ch gmbh//veranstaltungsausgabe v2.0//DE
VERSION:2.0
METHOD:PUBLISH
BEGIN:VEVENT
DTSTART:20260512T170000Z
DTEND:20260512T180000Z
LOCATION:Neuapostolische Kirche Bremgarten\, Fliederweg 3\, 5620
  Bremgarten
TRANSP:OPAQUE
SEQUENCE:0
UID:18689-veranstaltung@ref-bremgarten-mutschellen.ch
DTSTAMP:20260330T164230Z
DESCRIPTION:Kontakt: Marie Eve Morf\, Tel: 056 633 05 62\n\nWeitere Infos:
  https://www.ref-bremgarten-mutschellen.ch/veranstaltung/18689
SUMMARY:Gebet für den Frieden
PRIORITY:5
X-MICROSOFT-CDO-IMPORTANCE:1
CLASS:PUBLIC
END:VEVENT
END:VCALENDAR
