BEGIN:VCALENDAR
PRODID:-//kirchenweb.ch gmbh//veranstaltungsausgabe v2.0//DE
VERSION:2.0
METHOD:PUBLISH
BEGIN:VEVENT
DTSTART:20260505T170000Z
DTEND:20260505T180000Z
LOCATION:Kath. Kirche Oberwil-Lieli\, Kirchweg 41\, 8966 Oberwil-Lieli
TRANSP:OPAQUE
SEQUENCE:0
UID:18688-veranstaltung@ref-bremgarten-mutschellen.ch
DTSTAMP:20260330T164259Z
DESCRIPTION:Kontakt: Marie Eve Morf\, Tel: 056 633 05 62\n\nWeitere Infos:
  https://www.ref-bremgarten-mutschellen.ch/veranstaltung/18688
SUMMARY:Gebet für den Frieden
PRIORITY:5
X-MICROSOFT-CDO-IMPORTANCE:1
CLASS:PUBLIC
END:VEVENT
END:VCALENDAR
