BEGIN:VCALENDAR
PRODID:-//kirchenweb.ch gmbh//veranstaltungsausgabe v2.0//DE
VERSION:2.0
METHOD:PUBLISH
BEGIN:VEVENT
DTSTART:20260519T173000Z
DTEND:20260519T191500Z
LOCATION:Ref. Kirche Bremgarten\, Bärenmattstrasse 1\, 5620 Bremgarten
TRANSP:OPAQUE
SEQUENCE:0
UID:18677-veranstaltung@ref-bremgarten-mutschellen.ch
DTSTAMP:20260324T160317Z
DESCRIPTION:Gemeinsam entdecken. Tiefer verstehen. Persönlich wachsen.\n
 \nVier Kirchen. Vier Abende. Vier Gleichnisse.\n\nEine Einladung\, die
  Geschichten von Jesus neu zu erleben.\nDienstag: 19. Mai - 2. Juni
 \njeweils 19.40 - 21.15 Uhr\nRef. Kirchgemeindehaus Bremgarten\n\nDie
  Gleichnisse sind mehr als alte Erzählungen – sie sprechen mitten ins
  Leben. Sie handeln von Vertrauen\, Vergebung\, Hoffnung und dem\, was
  wirklich zählt. In einer offenen und wertschätzenden Atmosphäre lesen
  wir gemeinsam ausgewählte Texte\, tauschen Gedanken aus und entdecken\,
  was sie heute für uns bedeuten können.\n\nEgal\, ob du die Bibel gut
  kennst oder ganz neu einsteigst – du bist herzlich willkommen. Es
  braucht kein Vorwissen\, nur die Bereitschaft\, zuzuhören\, mitzudenken
  und eigene Fragen mitzubringen.\n\nWas dich erwartet:\n\nInspirierende
  Impulse aus bekannten Gleichnissen\nEhrlicher Austausch in der Gruppe
 \nZeit für persönliche Reflexion\nKonkrete Gedanken für deinen Alltag\n
 \nMach dich mit uns auf den Weg – zu neuen Perspektiven\, spannenden
  Gesprächen und vielleicht auch zu überraschenden Einsichten.\n\nWir
  freuen uns auf dich!\n\n\nKontakt: Verena Müller\, Tel. 056 350 05 24 \n
 \nWeitere Infos:
  https://www.ref-bremgarten-mutschellen.ch/veranstaltung/18677
SUMMARY:Ökumenische Bibelabende
PRIORITY:5
X-MICROSOFT-CDO-IMPORTANCE:1
CLASS:PUBLIC
END:VEVENT
END:VCALENDAR
