BEGIN:VCALENDAR
PRODID:-//kirchenweb.ch gmbh//veranstaltungsausgabe v2.0//DE
VERSION:2.0
METHOD:PUBLISH
BEGIN:VEVENT
DTSTART:20261212T083000Z
DTEND:20261212T093000Z
LOCATION:Reformierte Kirche Widen\, Bellikonerstrasse 206\, 8967 Widen
TRANSP:OPAQUE
SEQUENCE:0
UID:18552-veranstaltung@ref-bremgarten-mutschellen.ch
DTSTAMP:20260209T103321Z
DESCRIPTION:Die Kirchenmaus lädt alle Kinder von ca. 4 bis 8 Jahren mit
  ihren Eltern herzlich zur Müsli-Feier ein. Geschichten\, Lieder\,
  Theater und Spiele sorgen für einen lebendigen Gottesdienst zum
  Mitmachen. Danach basteln wir\, essen einen Znüni und genissen dabei die
  Gemeinschaft.\n\nKontakt: Manuel Keller\n\nWeitere Infos:
  https://www.ref-bremgarten-mutschellen.ch/veranstaltung/18552
SUMMARY:Oek. Müsli-Gottesdienst
PRIORITY:5
X-MICROSOFT-CDO-IMPORTANCE:1
CLASS:PUBLIC
END:VEVENT
END:VCALENDAR
