BEGIN:VCALENDAR
PRODID:-//kirchenweb.ch gmbh//veranstaltungsausgabe v2.0//DE
VERSION:2.0
METHOD:PUBLISH
BEGIN:VEVENT
DTSTART:20260425T160000Z
DTEND:20260425T170000Z
LOCATION:Ref. Kirche Widen\, Bellikonerstrasse 206\, 8967 Widen
TRANSP:OPAQUE
SEQUENCE:0
UID:18528-veranstaltung@ref-bremgarten-mutschellen.ch
DTSTAMP:20260327T105946Z
DESCRIPTION:Die Sonaten für Violine und Cembalo von Johann Sebastian Bach
  nehmen innerhalb seiner Kammermusik eine besondere Stellung ein. Anders
  als in vielen barocken Sonaten ist die Tastenstimme hier nicht nur
  Begleitung\, sondern ein gleichberechtigter Partner der Violine. Die
  reich ausgearbeitete\, polyphone Klavierstimme lässt diese Werke heute
  oft besonders überzeugend auf dem modernen Klavier erklingen.\n\nDie
  Violinstimme übernimmt Artiom Shishkov. Der in Minsk geborene Geiger
  begann im Alter von fünf Jahren mit dem Violinspiel und studierte
  später an der Universität für Musik und darstellende Kunst in Wien bei
  Dora Schwarzberg. Shishkov ist Preisträger von 19 internationalen
  Wettbewerben\, darunter des Queen Elisabeth Wettbewerbs in Brüssel sowie
  der Violinwettbewerbe Leopold Auer und Yankelevitch. Er trat bei
  zahlreichen Festivals in Europa auf und musizierte mit verschiedenen
  renommierten Orchestern.\n\nSein musikalischer Partner ist der Pianist
  und Organist Evgeni Spiridonov\, der seit vielen Jahren in der Schweiz
  als Musiker und Pädagoge tätig ist. Gemeinsam widmen sich die beiden
  Musiker dem fein verwobenen musikalischen Dialog zwischen Violine und
  Klavier\, der Bachs Sonaten zu einem besonderen Erlebnis der Kammermusik
  macht.\n\n\nKontakt: Spiridonov Yauheni\, Tel. 076 534 73 16\n\nWeitere
  Infos: https://www.ref-bremgarten-mutschellen.ch/veranstaltung/18528
SUMMARY:Kirchenkozert - Flügel und Geige
PRIORITY:5
X-MICROSOFT-CDO-IMPORTANCE:1
CLASS:PUBLIC
END:VEVENT
END:VCALENDAR
