BEGIN:VCALENDAR
PRODID:-//kirchenweb.ch gmbh//veranstaltungsausgabe v2.0//DE
VERSION:2.0
METHOD:PUBLISH
BEGIN:VEVENT
DTSTART:20260806T130000Z
DTEND:20260806T150000Z
LOCATION:Kath. Pfarreizentrum\, Oberwilerstrasse 5\, 8965 Berikon
TRANSP:OPAQUE
SEQUENCE:0
UID:18314-veranstaltung@ref-bremgarten-mutschellen.ch
DTSTAMP:20260127T144502Z
DESCRIPTION:Kontakt: Maria Loop\, Tel: 076 396 86 87\n\nWeitere Infos:
  https://www.ref-bremgarten-mutschellen.ch/veranstaltung/18314
SUMMARY:Ökum. Trauer Café
PRIORITY:5
X-MICROSOFT-CDO-IMPORTANCE:1
CLASS:PUBLIC
END:VEVENT
END:VCALENDAR
