BEGIN:VCALENDAR
PRODID:-//kirchenweb.ch gmbh//veranstaltungsausgabe v2.0//DE
VERSION:2.0
METHOD:PUBLISH
BEGIN:VEVENT
DTSTART:20260602T073000Z
DTEND:20260602T090000Z
LOCATION:JuPa\, neben der Ref. Kirche Widen\, \,
TRANSP:OPAQUE
SEQUENCE:0
UID:18290-veranstaltung@ref-bremgarten-mutschellen.ch
DTSTAMP:20260127T073747Z
DESCRIPTION:Hier treffen sich Eltern und Kinder  um gemeinsam Deutsch zu
  lernen. \nWir singen\, lesen Bücher\, spielen und bewegen uns zusammen.
 \nFür Familien\, die Deutsch lernen möchten. \n\n\nKontakt: Giselle
  Mello \nTelefon: 056 350 05 15\n\nWeitere Infos:
  https://www.ref-bremgarten-mutschellen.ch/veranstaltung/18290
SUMMARY:Eltern Kind Deutsch
PRIORITY:5
X-MICROSOFT-CDO-IMPORTANCE:1
CLASS:PUBLIC
END:VEVENT
END:VCALENDAR
