BEGIN:VCALENDAR
PRODID:-//kirchenweb.ch gmbh//veranstaltungsausgabe v2.0//DE
VERSION:2.0
METHOD:PUBLISH
BEGIN:VEVENT
DTSTART:20260814T150000Z
DTEND:20260814T160000Z
LOCATION:Cheminéezimmer Kirche Widen\, Bellikonerstrasse 206\, 8967 Widen
TRANSP:OPAQUE
SEQUENCE:0
UID:18075-veranstaltung@ref-bremgarten-mutschellen.ch
DTSTAMP:20260112T135640Z
DESCRIPTION:Eine Gebetsgruppe trifft sich jeden 2. Freitag im Monat für
  eine Stunde im Chemiéezimmer in der Kirche Widen.\nWir beten für das
  Leben und die Tätigkeiten in unserer Kirchgemeinde und für die
  Weiterentwicklung in die richtige Richtung. \nUnser Motto: Wenn der Herr
  nicht das Haus baut\, dann mühen sich alle\, die daran bauen\,
  vergeblich. Psalm 127\,1.\n\nWir würden uns freuen\, dich dabei zu
  haben.\nKontakt: Manuel Keller\, Sozialdiakon\, Tel. 056 350 05 23\,
  manuel.keller@ref-bremgarten-mutschellen.ch\n\n\nKontakt: Manuel Keller\,
  Tel. 056 631 51 36\n\nWeitere Infos:
  https://www.ref-bremgarten-mutschellen.ch/veranstaltung/18075
SUMMARY:Chile-Gebät
PRIORITY:5
X-MICROSOFT-CDO-IMPORTANCE:1
CLASS:PUBLIC
END:VEVENT
END:VCALENDAR
