BEGIN:VCALENDAR
PRODID:-//kirchenweb.ch gmbh//veranstaltungsausgabe v2.0//DE
VERSION:2.0
METHOD:PUBLISH
BEGIN:VEVENT
DTSTART:20260630T180000Z
DTEND:20260630T200000Z
LOCATION:Saal KiBiZi Widen\, Bellikonerstrasse 210\, 8967 Widen
TRANSP:OPAQUE
SEQUENCE:0
UID:18028-veranstaltung@ref-bremgarten-mutschellen.ch
DTSTAMP:20260109T104238Z
DESCRIPTION:Kontakt: Elisabeth Kolar\, Tel. 043 818 54 78\nEllen Tobler\,
  Tel. 056 496 15 83\n\nWeitere Infos:
  https://www.ref-bremgarten-mutschellen.ch/veranstaltung/18028
SUMMARY:ArsCantandi Chorprobe
PRIORITY:5
X-MICROSOFT-CDO-IMPORTANCE:1
CLASS:PUBLIC
END:VEVENT
END:VCALENDAR
