BEGIN:VCALENDAR
PRODID:-//kirchenweb.ch gmbh//veranstaltungsausgabe v2.0//DE
VERSION:2.0
METHOD:PUBLISH
BEGIN:VEVENT
DTSTART:20261128T160000Z
DTEND:20261128T170000Z
LOCATION:Dorfplatz Niederwil\, \, 5524 Niederwil
TRANSP:OPAQUE
SEQUENCE:0
UID:17976-veranstaltung@ref-bremgarten-mutschellen.ch
DTSTAMP:20260327T073524Z
DESCRIPTION:Kontakt: Stellvertretung\n\nWeitere Infos:
  https://www.ref-bremgarten-mutschellen.ch/veranstaltung/17976
SUMMARY:Ökum. Adventswanderung
PRIORITY:5
X-MICROSOFT-CDO-IMPORTANCE:1
CLASS:PUBLIC
END:VEVENT
END:VCALENDAR
