BEGIN:VCALENDAR
PRODID:-//kirchenweb.ch gmbh//veranstaltungsausgabe v2.0//DE
VERSION:2.0
METHOD:PUBLISH
BEGIN:VEVENT
DTSTART:20261101T133000Z
DTEND:20261101T143000Z
LOCATION:Kath. Kirche Bremgarten\, Pfarrgasse 4\, 5620 Bremgarten
TRANSP:OPAQUE
SEQUENCE:0
UID:17975-veranstaltung@ref-bremgarten-mutschellen.ch
DTSTAMP:20260423T135530Z
DESCRIPTION:Kontakt: Stellvertretung\n\nWeitere Infos:
  https://www.ref-bremgarten-mutschellen.ch/veranstaltung/17975
SUMMARY:Ökum. Totengedenkfeier
PRIORITY:5
X-MICROSOFT-CDO-IMPORTANCE:1
CLASS:PUBLIC
END:VEVENT
END:VCALENDAR
