BEGIN:VCALENDAR
PRODID:-//kirchenweb.ch gmbh//veranstaltungsausgabe v2.0//DE
VERSION:2.0
METHOD:PUBLISH
BEGIN:VEVENT
DTSTART:20261101T160000Z
DTEND:20261101T170000Z
LOCATION:Ref. Kirche Widen\, Bellikonerstrasse 206\, 8967 Widen
TRANSP:OPAQUE
SEQUENCE:0
UID:17974-veranstaltung@ref-bremgarten-mutschellen.ch
DTSTAMP:20260423T135549Z
DESCRIPTION:Kontakt: Corinne Dobler\, Tel. 056 350 05 22\n\nWeitere Infos:
  https://www.ref-bremgarten-mutschellen.ch/veranstaltung/17974
SUMMARY:Seele-Tanzen-Feier
PRIORITY:5
X-MICROSOFT-CDO-IMPORTANCE:1
CLASS:PUBLIC
END:VEVENT
END:VCALENDAR
