BEGIN:VCALENDAR
PRODID:-//kirchenweb.ch gmbh//veranstaltungsausgabe v2.0//DE
VERSION:2.0
METHOD:PUBLISH
BEGIN:VEVENT
DTSTART:20261018T083000Z
DTEND:20261018T093000Z
LOCATION:Josef Stiftung\, Badstrasse 2\, 5620 Bremgarten
TRANSP:OPAQUE
SEQUENCE:0
UID:17973-veranstaltung@ref-bremgarten-mutschellen.ch
DTSTAMP:20260423T135013Z
DESCRIPTION:Kontakt: Corinne Dobler\, Tel. 056 350 05 22\n\nWeitere Infos:
  https://www.ref-bremgarten-mutschellen.ch/veranstaltung/17973
SUMMARY:Gottesdinest Josef Stiftung
PRIORITY:5
X-MICROSOFT-CDO-IMPORTANCE:1
CLASS:PUBLIC
END:VEVENT
END:VCALENDAR
