BEGIN:VCALENDAR
PRODID:-//kirchenweb.ch gmbh//veranstaltungsausgabe v2.0//DE
VERSION:2.0
METHOD:PUBLISH
BEGIN:VEVENT
DTSTART:20260913T070000Z
DTEND:20260913T080000Z
LOCATION:Kath. Kirche FiGö\, Hof Stierli\, 5525 Fischbach-Göslikon
TRANSP:OPAQUE
SEQUENCE:0
UID:17968-veranstaltung@ref-bremgarten-mutschellen.ch
DTSTAMP:20260423T134436Z
DESCRIPTION:Kontakt: Stellvertretung\n\nWeitere Infos:
  https://www.ref-bremgarten-mutschellen.ch/veranstaltung/17968
SUMMARY:Ökum. Erntedank Gottesdienst
PRIORITY:5
X-MICROSOFT-CDO-IMPORTANCE:1
CLASS:PUBLIC
END:VEVENT
END:VCALENDAR
