BEGIN:VCALENDAR
PRODID:-//kirchenweb.ch gmbh//veranstaltungsausgabe v2.0//DE
VERSION:2.0
METHOD:PUBLISH
BEGIN:VEVENT
DTSTART:20260823T080000Z
DTEND:20260823T090000Z
LOCATION:Kath. Kirche Hermetschwil\, Waldhütte\, 5626
  Hermetschwil-Staffeln
TRANSP:OPAQUE
SEQUENCE:0
UID:17966-veranstaltung@ref-bremgarten-mutschellen.ch
DTSTAMP:20260423T134101Z
DESCRIPTION:Kontakt: Marcel Sturzenegger\, Tel. 056 350 00 26\n\nWeitere
  Infos: https://www.ref-bremgarten-mutschellen.ch/veranstaltung/17966
SUMMARY:Ökum. Waldgottesdienst
PRIORITY:5
X-MICROSOFT-CDO-IMPORTANCE:1
CLASS:PUBLIC
END:VEVENT
END:VCALENDAR
