BEGIN:VCALENDAR
PRODID:-//kirchenweb.ch gmbh//veranstaltungsausgabe v2.0//DE
VERSION:2.0
METHOD:PUBLISH
BEGIN:VEVENT
DTSTART:20261102T130000Z
DTEND:20261102T160000Z
LOCATION:KiBiZi Widen\, Bellikonerstrasse 210\, 8967 Widen
TRANSP:OPAQUE
SEQUENCE:0
UID:17940-veranstaltung@ref-bremgarten-mutschellen.ch
DTSTAMP:20251224T084744Z
DESCRIPTION:Tanzen macht nicht nur Spass\, sondern ist auch gesund. Es
  werden verschieden Muskeln trainieren\, die dafür sorgen\, dass unsere
  Sehnen und Bänder besser durchblutet werden. Zudem wird die Koordination
  verbessert. Auch der soziale Aspekt des Tanzens sollte nicht
  unterschätzen werden. Es macht Freude\, die Musik beschwingt und befreit
  uns von unseren Alltagssorgen.\n\nZum Tanzen zu Live Musik von Walter
  Hauswirth sind alle herzliche eingeladen.\nAuf dem Buffet stehen diverse
  Getränke\, Kuchen und belegte Brote gegen Bezahlung bereit.\n
 \nUnkostenbeitrag: Fr. 10.- pro Person\nWir freuen uns auf Sie.\nAuskunft:
  Silvia Gasser\, 056 622 78 60\n\n\nKontakt: Silvia Gasser\, Tel. 079 730
  66 75\n\nWeitere Infos:
  https://www.ref-bremgarten-mutschellen.ch/veranstaltung/17940
SUMMARY:Tanznachmittag "60 plus"
PRIORITY:5
X-MICROSOFT-CDO-IMPORTANCE:1
CLASS:PUBLIC
END:VEVENT
END:VCALENDAR
