BEGIN:VCALENDAR
PRODID:-//kirchenweb.ch gmbh//veranstaltungsausgabe v2.0//DE
VERSION:2.0
METHOD:PUBLISH
BEGIN:VEVENT
DTSTART:20260805T173000Z
DTEND:20260805T183000Z
LOCATION:Ref. Kirche Bremgarten\, Bärenmattstrasse 1\, 5620 Bremgarten
TRANSP:OPAQUE
SEQUENCE:0
UID:17932-veranstaltung@ref-bremgarten-mutschellen.ch
DTSTAMP:20251222T154109Z
DESCRIPTION:Kontakt: Kunz Nada\n\nWeitere Infos:
  https://www.ref-bremgarten-mutschellen.ch/veranstaltung/17932
SUMMARY:Meditationsabend mit Nada Kunz
PRIORITY:5
X-MICROSOFT-CDO-IMPORTANCE:1
CLASS:PUBLIC
END:VEVENT
END:VCALENDAR
