BEGIN:VCALENDAR
PRODID:-//kirchenweb.ch gmbh//veranstaltungsausgabe v2.0//DE
VERSION:2.0
METHOD:PUBLISH
BEGIN:VEVENT
DTSTART:20260416T140000Z
DTEND:20260416T180000Z
LOCATION:JuPa\, neben der Ref. Kirche Widen\, neben der Ref. Kirche\, 8967
  Widen
TRANSP:OPAQUE
SEQUENCE:0
UID:17897-veranstaltung@ref-bremgarten-mutschellen.ch
DTSTAMP:20260113T071400Z
DESCRIPTION:Kontakt: Manuel Keller\, Tel. 056 350 05 23\n\nWeitere Infos:
  https://www.ref-bremgarten-mutschellen.ch/veranstaltung/17897
SUMMARY:Repair-Café
PRIORITY:5
X-MICROSOFT-CDO-IMPORTANCE:1
CLASS:PUBLIC
END:VEVENT
END:VCALENDAR
