BEGIN:VCALENDAR
PRODID:-//kirchenweb.ch gmbh//veranstaltungsausgabe v2.0//DE
VERSION:2.0
METHOD:PUBLISH
BEGIN:VEVENT
DTSTART:20260605T114500Z
DTEND:20260605T140000Z
LOCATION:Cheminéezimmer Kirche Widen\, Bellikonerstrasse 206\, 8967 Widen
TRANSP:OPAQUE
SEQUENCE:0
UID:17818-veranstaltung@ref-bremgarten-mutschellen.ch
DTSTAMP:20251128T073856Z
DESCRIPTION:Ihr Hobby ist stricken und häkeln! \nWir sind eine fröhliche
  und unkomplizierte Gruppe\, die gerne zusammen handarbeitet.\nBitte
  nehmen Sie vorher Kontakt auf!\n\nBarbara Tucek\, Tel: 079 656 31 84\n
 \nKontakt: Maria Trost\, Tel. 056 633 73 50\n\nWeitere Infos:
  https://www.ref-bremgarten-mutschellen.ch/veranstaltung/17818
SUMMARY:Lismiträff
PRIORITY:5
X-MICROSOFT-CDO-IMPORTANCE:1
CLASS:PUBLIC
END:VEVENT
END:VCALENDAR
