BEGIN:VCALENDAR
PRODID:-//kirchenweb.ch gmbh//veranstaltungsausgabe v2.0//DE
VERSION:2.0
METHOD:PUBLISH
BEGIN:VEVENT
DTSTART:20260628T083000Z
DTEND:20260628T093000Z
LOCATION:St. Josef-Stiftung\, Badstrasse\, 5620 Bremgarten
TRANSP:OPAQUE
SEQUENCE:0
UID:17782-veranstaltung@ref-bremgarten-mutschellen.ch
DTSTAMP:20251126T153227Z
DESCRIPTION:Kontakt: Corinne Dobler\, Tel. 056 631 06 26\n\nWeitere Infos:
  https://www.ref-bremgarten-mutschellen.ch/veranstaltung/17782
SUMMARY:Gottesdienst St. Josef-Stiftung
PRIORITY:5
X-MICROSOFT-CDO-IMPORTANCE:1
CLASS:PUBLIC
END:VEVENT
END:VCALENDAR
