BEGIN:VCALENDAR
PRODID:-//kirchenweb.ch gmbh//veranstaltungsausgabe v2.0//DE
VERSION:2.0
METHOD:PUBLISH
BEGIN:VEVENT
DTSTART:20260514T080000Z
DTEND:20260514T090000Z
LOCATION:Waldhütte Bellikon\, \, 5454 Bellikon
TRANSP:OPAQUE
SEQUENCE:0
UID:17778-veranstaltung@ref-bremgarten-mutschellen.ch
DTSTAMP:20251126T144410Z
DESCRIPTION:Kontakt: Michael Wiesmann\, Tel. 056 350 05 25\n\nWeitere
  Infos: https://www.ref-bremgarten-mutschellen.ch/veranstaltung/17778
SUMMARY:Ökum. Waldgottesdienst
PRIORITY:5
X-MICROSOFT-CDO-IMPORTANCE:1
CLASS:PUBLIC
END:VEVENT
END:VCALENDAR
