BEGIN:VCALENDAR
PRODID:-//kirchenweb.ch gmbh//veranstaltungsausgabe v2.0//DE
VERSION:2.0
METHOD:PUBLISH
BEGIN:VEVENT
DTSTART:20260424T070000Z
DTEND:20260424T090000Z
LOCATION:KiBiZi-Saal Widen\, Bellikonerstrasse 210\, 8967 Widen
TRANSP:OPAQUE
SEQUENCE:0
UID:17755-veranstaltung@ref-bremgarten-mutschellen.ch
DTSTAMP:20260424T085628Z
DESCRIPTION:Kontakt: Maria Trost\, Tel. 056 633 73 50\n\nWeitere Infos:
  https://www.ref-bremgarten-mutschellen.ch/veranstaltung/17755
SUMMARY:Frühstückstreff
PRIORITY:5
X-MICROSOFT-CDO-IMPORTANCE:1
CLASS:PUBLIC
END:VEVENT
END:VCALENDAR
