BEGIN:VCALENDAR
PRODID:-//kirchenweb.ch gmbh//veranstaltungsausgabe v2.0//DE
VERSION:2.0
METHOD:PUBLISH
BEGIN:VEVENT
DTSTART:20261110T080000Z
DTEND:20261110T100000Z
LOCATION:Reformierte Kirche Widen\, Bellikonerstrasse 206\, 8967 Widen
TRANSP:OPAQUE
SEQUENCE:0
UID:17749-veranstaltung@ref-bremgarten-mutschellen.ch
DTSTAMP:20251126T073523Z
DESCRIPTION:Kontakt: Elisabeth Kolar\, 078 793 99 49\n\nWeitere Infos:
  https://www.ref-bremgarten-mutschellen.ch/veranstaltung/17749
SUMMARY:Seniorensingkreis
PRIORITY:5
X-MICROSOFT-CDO-IMPORTANCE:1
CLASS:PUBLIC
END:VEVENT
END:VCALENDAR
