BEGIN:VCALENDAR
PRODID:-//kirchenweb.ch gmbh//veranstaltungsausgabe v2.0//DE
VERSION:2.0
METHOD:PUBLISH
BEGIN:VEVENT
DTSTART:20261013T100000Z
DTEND:20261013T120000Z
LOCATION:Katholische Kirche Rudolfstetten\, a. Bremgartenstr. 14\, 8964
  Rudolfstetten
TRANSP:OPAQUE
SEQUENCE:0
UID:17730-veranstaltung@ref-bremgarten-mutschellen.ch
DTSTAMP:20251126T071655Z
DESCRIPTION:Kontakt: Margrit Güntert\, Tel. 079 397 46 74\n\nWeitere
  Infos: https://www.ref-bremgarten-mutschellen.ch/veranstaltung/17730
SUMMARY:Tavolata
PRIORITY:5
X-MICROSOFT-CDO-IMPORTANCE:1
CLASS:PUBLIC
END:VEVENT
END:VCALENDAR
