BEGIN:VCALENDAR
PRODID:-//kirchenweb.ch gmbh//veranstaltungsausgabe v2.0//DE
VERSION:2.0
METHOD:PUBLISH
BEGIN:VEVENT
DTSTART:20261120T173000Z
DTEND:20261120T200000Z
LOCATION:JuPa Widen\, neben der Ref. Kirche\, 8967 Widen
TRANSP:OPAQUE
SEQUENCE:0
UID:17721-veranstaltung@ref-bremgarten-mutschellen.ch
DTSTAMP:20251125T154452Z
DESCRIPTION:Girls Abende für Primarschülerinnen\n\nKontakt: Sabrina
  Balmer\, Tel. 056 534 97 30\n\nWeitere Infos:
  https://www.ref-bremgarten-mutschellen.ch/veranstaltung/17721
SUMMARY:Girlsabend
PRIORITY:5
X-MICROSOFT-CDO-IMPORTANCE:1
CLASS:PUBLIC
END:VEVENT
END:VCALENDAR
