BEGIN:VCALENDAR
PRODID:-//kirchenweb.ch gmbh//veranstaltungsausgabe v2.0//DE
VERSION:2.0
METHOD:PUBLISH
BEGIN:VEVENT
DTSTART:20260619T163000Z
DTEND:20260619T190000Z
LOCATION:Ref. Kirche Widen\, Bellikonerstrasse 206\, 8967 Widen
TRANSP:OPAQUE
SEQUENCE:0
UID:17717-veranstaltung@ref-bremgarten-mutschellen.ch
DTSTAMP:20260207T110026Z
DESCRIPTION:Girls Abende für Mädchen ab der 4.Klasse\n\nKontakt: Sabrina
  Balmer\, Tel. 056 534 97 30\n\nWeitere Infos:
  https://www.ref-bremgarten-mutschellen.ch/veranstaltung/17717
SUMMARY:Girlsabend
PRIORITY:5
X-MICROSOFT-CDO-IMPORTANCE:1
CLASS:PUBLIC
END:VEVENT
END:VCALENDAR
