BEGIN:VCALENDAR
PRODID:-//kirchenweb.ch gmbh//veranstaltungsausgabe v2.0//DE
VERSION:2.0
METHOD:PUBLISH
BEGIN:VEVENT
DTSTART:20261213T083000Z
DTEND:20261213T093000Z
LOCATION:Pavillon Niederwil\, Schulweg 3\, 5524 Niederwil
TRANSP:OPAQUE
SEQUENCE:0
UID:17697-veranstaltung@ref-bremgarten-mutschellen.ch
DTSTAMP:20260423T140308Z
DESCRIPTION:Kontakt: Michael Wiesmann\, Tel. 056 350 05 25\n\nWeitere
  Infos: https://www.ref-bremgarten-mutschellen.ch/veranstaltung/17697
SUMMARY:Gottesdienst
PRIORITY:5
X-MICROSOFT-CDO-IMPORTANCE:1
CLASS:PUBLIC
END:VEVENT
END:VCALENDAR
