BEGIN:VCALENDAR
PRODID:-//kirchenweb.ch gmbh//veranstaltungsausgabe v2.0//DE
VERSION:2.0
METHOD:PUBLISH
BEGIN:VEVENT
DTSTART:20261101T090000Z
DTEND:20261101T100000Z
LOCATION:Pavillon Niederwil\, Schulweg 3\, 5524 Niederwil
TRANSP:OPAQUE
SEQUENCE:0
UID:17696-veranstaltung@ref-bremgarten-mutschellen.ch
DTSTAMP:20260423T135155Z
DESCRIPTION:Kontakt: Stellvertretung\n\nWeitere Infos:
  https://www.ref-bremgarten-mutschellen.ch/veranstaltung/17696
SUMMARY:Gottesdienst
PRIORITY:5
X-MICROSOFT-CDO-IMPORTANCE:1
CLASS:PUBLIC
END:VEVENT
END:VCALENDAR
