BEGIN:VCALENDAR
PRODID:-//kirchenweb.ch gmbh//veranstaltungsausgabe v2.0//DE
VERSION:2.0
METHOD:PUBLISH
BEGIN:VEVENT
DTSTART:20261018T070000Z
DTEND:20261018T080000Z
LOCATION:Pavillon Niederwil\, Schulweg 3\, 5524 Niederwil
TRANSP:OPAQUE
SEQUENCE:0
UID:17695-veranstaltung@ref-bremgarten-mutschellen.ch
DTSTAMP:20260423T134913Z
DESCRIPTION:Kontakt: Corinne Dobler\, Tel. 056 350 05 22\n\nWeitere Infos:
  https://www.ref-bremgarten-mutschellen.ch/veranstaltung/17695
SUMMARY:Gottesdienst
PRIORITY:5
X-MICROSOFT-CDO-IMPORTANCE:1
CLASS:PUBLIC
END:VEVENT
END:VCALENDAR
