BEGIN:VCALENDAR
PRODID:-//kirchenweb.ch gmbh//veranstaltungsausgabe v2.0//DE
VERSION:2.0
METHOD:PUBLISH
BEGIN:VEVENT
DTSTART:20260524T073000Z
DTEND:20260524T083000Z
LOCATION:Pavillon Niederwil\, Schulweg 3\, 5524 Niederwil
TRANSP:OPAQUE
SEQUENCE:0
UID:17692-veranstaltung@ref-bremgarten-mutschellen.ch
DTSTAMP:20251126T144941Z
DESCRIPTION:Kontakt: Michael Wiesmann\, Tel. 056 350 05 25\n\nWeitere
  Infos: https://www.ref-bremgarten-mutschellen.ch/veranstaltung/17692
SUMMARY:Gottesdienst
PRIORITY:5
X-MICROSOFT-CDO-IMPORTANCE:1
CLASS:PUBLIC
END:VEVENT
END:VCALENDAR
