BEGIN:VCALENDAR
PRODID:-//kirchenweb.ch gmbh//veranstaltungsausgabe v2.0//DE
VERSION:2.0
METHOD:PUBLISH
BEGIN:VEVENT
DTSTART:20261025T173000Z
DTEND:20261025T183000Z
LOCATION:Ref. Kirche Widen\, Bellikonerstrasse 206\, 8967 Widen
TRANSP:OPAQUE
SEQUENCE:0
UID:17685-veranstaltung@ref-bremgarten-mutschellen.ch
DTSTAMP:20260423T135049Z
DESCRIPTION:Kontakt: Michael Wiesmann\, Tel. 056 350 05 25\n\nWeitere
  Infos: https://www.ref-bremgarten-mutschellen.ch/veranstaltung/17685
SUMMARY:Musikalischer Gottesdienst Filmmusik
PRIORITY:5
X-MICROSOFT-CDO-IMPORTANCE:1
CLASS:PUBLIC
END:VEVENT
END:VCALENDAR
