BEGIN:VCALENDAR
PRODID:-//kirchenweb.ch gmbh//veranstaltungsausgabe v2.0//DE
VERSION:2.0
METHOD:PUBLISH
BEGIN:VEVENT
DTSTART:20261011T080000Z
DTEND:20261011T090000Z
LOCATION:Ref. Kirche Widen\, Bellikonerstrasse 206\, 8967 Widen
TRANSP:OPAQUE
SEQUENCE:0
UID:17684-veranstaltung@ref-bremgarten-mutschellen.ch
DTSTAMP:20260423T134816Z
DESCRIPTION:Kontakt: Stellvertretung\n\nWeitere Infos:
  https://www.ref-bremgarten-mutschellen.ch/veranstaltung/17684
SUMMARY:Gottesdienst
PRIORITY:5
X-MICROSOFT-CDO-IMPORTANCE:1
CLASS:PUBLIC
END:VEVENT
END:VCALENDAR
