BEGIN:VCALENDAR
PRODID:-//kirchenweb.ch gmbh//veranstaltungsausgabe v2.0//DE
VERSION:2.0
METHOD:PUBLISH
BEGIN:VEVENT
DTSTART:20260927T163000Z
DTEND:20260927T173000Z
LOCATION:Ref. Kirche Widen\, Bellikonerstrasse 206\, 8967 Widen
TRANSP:OPAQUE
SEQUENCE:0
UID:17683-veranstaltung@ref-bremgarten-mutschellen.ch
DTSTAMP:20260423T134646Z
DESCRIPTION:Kontakt: Marcel Sturzenegger\, Tel. 056 350 00 26\n\nWeitere
  Infos: https://www.ref-bremgarten-mutschellen.ch/veranstaltung/17683
SUMMARY:Musikalischer Gottesdienst Schlager
PRIORITY:5
X-MICROSOFT-CDO-IMPORTANCE:1
CLASS:PUBLIC
END:VEVENT
END:VCALENDAR
