BEGIN:VCALENDAR
PRODID:-//kirchenweb.ch gmbh//veranstaltungsausgabe v2.0//DE
VERSION:2.0
METHOD:PUBLISH
BEGIN:VEVENT
DTSTART:20260816T090000Z
DTEND:20260816T100000Z
LOCATION:Ref. Kirche Widen\, Bellikonerstrasse 206\, 8967 Widen
TRANSP:OPAQUE
SEQUENCE:0
UID:17679-veranstaltung@ref-bremgarten-mutschellen.ch
DTSTAMP:20260423T134004Z
DESCRIPTION:Kontakt: Manuel Keller\, Tel. 056 350 05 23\n\nWeitere Infos:
  https://www.ref-bremgarten-mutschellen.ch/veranstaltung/17679
SUMMARY:Ökum. Schulanfangsgottesdienst
PRIORITY:5
X-MICROSOFT-CDO-IMPORTANCE:1
CLASS:PUBLIC
END:VEVENT
END:VCALENDAR
