BEGIN:VCALENDAR
PRODID:-//kirchenweb.ch gmbh//veranstaltungsausgabe v2.0//DE
VERSION:2.0
METHOD:PUBLISH
BEGIN:VEVENT
DTSTART:20261129T090000Z
DTEND:20261129T100000Z
LOCATION:Ref. Kirche Bremgarten\, Bärenmattstrasse 1\, 5620 Bremgarten
TRANSP:OPAQUE
SEQUENCE:0
UID:17653-veranstaltung@ref-bremgarten-mutschellen.ch
DTSTAMP:20260423T140939Z
DESCRIPTION:Kontakt: Stellvertretung\n\nWeitere Infos:
  https://www.ref-bremgarten-mutschellen.ch/veranstaltung/17653
SUMMARY:Gottesdienst Bossey
PRIORITY:5
X-MICROSOFT-CDO-IMPORTANCE:1
CLASS:PUBLIC
END:VEVENT
END:VCALENDAR
