BEGIN:VCALENDAR
PRODID:-//kirchenweb.ch gmbh//veranstaltungsausgabe v2.0//DE
VERSION:2.0
METHOD:PUBLISH
BEGIN:VEVENT
DTSTART:20261122T090000Z
DTEND:20261122T100000Z
LOCATION:Ref. Kirche Bremgarten\, Bärenmattstrasse 1\, 5620 Bremgarten
TRANSP:OPAQUE
SEQUENCE:0
UID:17652-veranstaltung@ref-bremgarten-mutschellen.ch
DTSTAMP:20260423T135708Z
DESCRIPTION:Kontakt: Corinne Dobler\, Tel. 056 350 05 22\n\nWeitere Infos:
  https://www.ref-bremgarten-mutschellen.ch/veranstaltung/17652
SUMMARY:Ewigkeitssonntag Gottesdienst
PRIORITY:5
X-MICROSOFT-CDO-IMPORTANCE:1
CLASS:PUBLIC
END:VEVENT
END:VCALENDAR
