BEGIN:VCALENDAR
PRODID:-//kirchenweb.ch gmbh//veranstaltungsausgabe v2.0//DE
VERSION:2.0
METHOD:PUBLISH
BEGIN:VEVENT
DTSTART:20260906T090000Z
DTEND:20260906T100000Z
LOCATION:Ref. Kirche Bremgarten\, Bärenmattstrasse 1\, 5620 Bremgarten
TRANSP:OPAQUE
SEQUENCE:0
UID:17647-veranstaltung@ref-bremgarten-mutschellen.ch
DTSTAMP:20260423T134402Z
DESCRIPTION:Kontakt: Marcel Sturzenegger\, Tel. 056 350 00 26\n\nWeitere
  Infos: https://www.ref-bremgarten-mutschellen.ch/veranstaltung/17647
SUMMARY:Abschiedsgottesdienst für Marcel Sturzenegger mit den Happy
  Voices
PRIORITY:5
X-MICROSOFT-CDO-IMPORTANCE:1
CLASS:PUBLIC
END:VEVENT
END:VCALENDAR
