BEGIN:VCALENDAR
PRODID:-//kirchenweb.ch gmbh//veranstaltungsausgabe v2.0//DE
VERSION:2.0
METHOD:PUBLISH
BEGIN:VEVENT
DTSTART:20260726T080000Z
DTEND:20260726T090000Z
LOCATION:Ref. Kirche Bremgarten\, Bärenmattstrasse 1\, 5620 Bremgarten
TRANSP:OPAQUE
SEQUENCE:0
UID:17645-veranstaltung@ref-bremgarten-mutschellen.ch
DTSTAMP:20260423T133810Z
DESCRIPTION:Kontakt: Jürg Leuthold\n\nWeitere Infos:
  https://www.ref-bremgarten-mutschellen.ch/veranstaltung/17645
SUMMARY:Gottesdienst
PRIORITY:5
X-MICROSOFT-CDO-IMPORTANCE:1
CLASS:PUBLIC
END:VEVENT
END:VCALENDAR
