BEGIN:VCALENDAR
PRODID:-//kirchenweb.ch gmbh//veranstaltungsausgabe v2.0//DE
VERSION:2.0
METHOD:PUBLISH
BEGIN:VEVENT
DTSTART:20261108T090000Z
DTEND:20261108T100000Z
LOCATION:Reusspark Niederwil\, Gnadenthal\, 5524 Niederwil
TRANSP:OPAQUE
SEQUENCE:0
UID:17634-veranstaltung@ref-bremgarten-mutschellen.ch
DTSTAMP:20260101T161937Z
DESCRIPTION:Kontakt: Maria Trost\, Tel. 056 350 05 27\n\nWeitere Infos:
  https://www.ref-bremgarten-mutschellen.ch/veranstaltung/17634
SUMMARY:Gottesdienst im Alterszentrum Reusspark
PRIORITY:5
X-MICROSOFT-CDO-IMPORTANCE:1
CLASS:PUBLIC
END:VEVENT
END:VCALENDAR
