BEGIN:VCALENDAR
PRODID:-//kirchenweb.ch gmbh//veranstaltungsausgabe v2.0//DE
VERSION:2.0
METHOD:PUBLISH
BEGIN:VEVENT
DTSTART:20261127T090000Z
DTEND:20261127T100000Z
LOCATION:Alterszentrum Bärenmatt\, Bremgarten\, Zugerstrasse 6\, 5620
  Bremgarten
TRANSP:OPAQUE
SEQUENCE:0
UID:17558-veranstaltung@ref-bremgarten-mutschellen.ch
DTSTAMP:20260102T145758Z
DESCRIPTION:Kontakt: Michael Wiesmann\, Tel. 056 350 05 25\n\nWeitere
  Infos: https://www.ref-bremgarten-mutschellen.ch/veranstaltung/17558
SUMMARY:Gottesdienst AZ Bärenmatt
PRIORITY:5
X-MICROSOFT-CDO-IMPORTANCE:1
CLASS:PUBLIC
END:VEVENT
END:VCALENDAR
