BEGIN:VCALENDAR
PRODID:-//kirchenweb.ch gmbh//veranstaltungsausgabe v2.0//DE
VERSION:2.0
METHOD:PUBLISH
BEGIN:VEVENT
DTSTART:20261030T090000Z
DTEND:20261030T100000Z
LOCATION:Alterszentrum Bärenmatt\, Bremgarten\, Zugerstrasse 6\, 5620
  Bremgarten
TRANSP:OPAQUE
SEQUENCE:0
UID:17556-veranstaltung@ref-bremgarten-mutschellen.ch
DTSTAMP:20260102T145636Z
DESCRIPTION:Kontakt: Brigitta Sturzenegger\, Tel.  056 350 05 28\n
 \nWeitere Infos:
  https://www.ref-bremgarten-mutschellen.ch/veranstaltung/17556
SUMMARY:Gottesdienst AZ Bärenmatt
PRIORITY:5
X-MICROSOFT-CDO-IMPORTANCE:1
CLASS:PUBLIC
END:VEVENT
END:VCALENDAR
