BEGIN:VCALENDAR
PRODID:-//kirchenweb.ch gmbh//veranstaltungsausgabe v2.0//DE
VERSION:2.0
METHOD:PUBLISH
BEGIN:VEVENT
DTSTART:20260821T080000Z
DTEND:20260821T090000Z
LOCATION:Alterszentrum Bärenmatt\, Bremgarten\, Zugerstrasse 6\, 5620
  Bremgarten
TRANSP:OPAQUE
SEQUENCE:0
UID:17551-veranstaltung@ref-bremgarten-mutschellen.ch
DTSTAMP:20260325T143130Z
DESCRIPTION:Kontakt: Brigitta Sturzenegger\, Tel.  056 350 05 28\n
 \nWeitere Infos:
  https://www.ref-bremgarten-mutschellen.ch/veranstaltung/17551
SUMMARY:Gottesdienst AZ Bärenmatt
PRIORITY:5
X-MICROSOFT-CDO-IMPORTANCE:1
CLASS:PUBLIC
END:VEVENT
END:VCALENDAR
