BEGIN:VCALENDAR
PRODID:-//kirchenweb.ch gmbh//veranstaltungsausgabe v2.0//DE
VERSION:2.0
METHOD:PUBLISH
BEGIN:VEVENT
DTSTART:20260814T080000Z
DTEND:20260814T090000Z
LOCATION:Alterszentrum Burkertsmatt\, Widen\, Burkertsmatt 4\, 8967 Widen
TRANSP:OPAQUE
SEQUENCE:0
UID:17526-veranstaltung@ref-bremgarten-mutschellen.ch
DTSTAMP:20260325T143047Z
DESCRIPTION:Kontakt: Brigitta Sturzenegger\, Tel.  056 350 05 28\n
 \nWeitere Infos:
  https://www.ref-bremgarten-mutschellen.ch/veranstaltung/17526
SUMMARY:Gottesdienst AZ Burkerstsmatt
PRIORITY:5
X-MICROSOFT-CDO-IMPORTANCE:1
CLASS:PUBLIC
END:VEVENT
END:VCALENDAR
