BEGIN:VCALENDAR
PRODID:-//kirchenweb.ch gmbh//veranstaltungsausgabe v2.0//DE
VERSION:2.0
METHOD:PUBLISH
BEGIN:VEVENT
DTSTART;VALUE=DATE:20260606
DTEND;VALUE=DATE:20260607
LOCATION:Extern\, \,
TRANSP:OPAQUE
SEQUENCE:0
UID:17472-veranstaltung@ref-bremgarten-mutschellen.ch
DTSTAMP:20251114T150731Z
DESCRIPTION:Wir sind dann mal weg - Pilgern auf dem Jakobsweg\n\nUnsere
  Pilgerreise beginnt in Einsiedeln. Das Ziel ist zunächst die
  französische Grenze bei Genf. Wir wandern zu Beginn in Tagesetappen à
  ca. 4–6 Stunden\, jeweils ca. 20 km. \n\nPilgern heisst für uns: 
 \nZeit haben für Gespräche und Stille\, für die Begegnung mit Mensch
  und Gott und das Erwandern wunderschöner Landschaften. Vieles kann
  unterwegs entstehen und sich verändern. \n\nKontakt: Verena Müller\,
  Tel. 056 350 05 24 \n\nWeitere Infos:
  https://www.ref-bremgarten-mutschellen.ch/veranstaltung/17472
SUMMARY:Wir sind dann mal weg: Pilgern auf dem Jakobsweg
PRIORITY:5
X-MICROSOFT-CDO-IMPORTANCE:1
CLASS:PUBLIC
END:VEVENT
END:VCALENDAR
